BEGIN:VCALENDAR
VERSION:2.0
PRODID:-//ChamberMaster//Event Calendar 2.0//EN
METHOD:PUBLISH
X-PUBLISHED-TTL:P3D
REFRESH-INTERVAL:P3D
CALSCALE:GREGORIAN
BEGIN:VEVENT
DTSTART:20140426T130000Z
DTEND:20140426T170000Z
X-MICROSOFT-CDO-ALLDAYEVENT:FALSE
SUMMARY:DeWitt's First-Ever Fine Art Mart
DESCRIPTION:Donate your quality used pottery\, sculpture\, painting and other wall or functional art. Art will be collected a the Ag Spectrum Building on 11th Street\, DeWitt across from the Middle School from 9 a.m. to 1:00 p.m. and 5:00 to 3:00 on these four days: April 12th\, April 21 and April 25th.\n\n\n\nYour donation may qualify for a tax deduction!  The sale of used art work will support the projects of the DeWitt Fine Arts Foundation.
X-ALT-DESC;FMTTYPE=text/html:Donate your quality used pottery\, sculpture\, painting and other wall or functional art. Art will be collected a the Ag Spectrum Building on 11th&nbsp\;Street\, DeWitt across from the Middle School from 9 a.m. to 1:00 p.m. and 5:00 to 3:00 on these four days: April 12th\, April 21 and April 25th.<br />\n<br />\nYour donation may qualify for a tax deduction! &nbsp\;The sale of used art work will support the projects of the DeWitt Fine Arts Foundation.
LOCATION:Central Performing Arts Center 519 E. 11th Street\, DeWitt\, IA
UID:e.1774.35
SEQUENCE:3
DTSTAMP:20260422T055123Z
URL:https://business.dewittiowa.org/events/details/dewitt-s-first-ever-fine-art-mart-04-26-2014-35
END:VEVENT

END:VCALENDAR
