BEGIN:VCALENDAR
VERSION:2.0
PRODID:-//ChamberMaster//Event Calendar 2.0//EN
METHOD:PUBLISH
X-PUBLISHED-TTL:P3D
REFRESH-INTERVAL:P3D
CALSCALE:GREGORIAN
BEGIN:VEVENT
DTSTART;VALUE=DATE:20151003
DTEND;VALUE=DATE:20151004
TRANSP:TRANSPARENT
X-MICROSOFT-CDO-ALLDAYEVENT:TRUE
SUMMARY:DeWitt's Great Pumpkin Festival
DESCRIPTION:DeWitt's Great Pumpkin Festival\n\nSaturday\, October 3\, 2015\n\n10 a.m.- 5 p.m.\n\nDowntown DeWitt on 6th Avenue\n\n\n\nFood and Craft Vendors all day\n\nDeWitt Veterans Memorial Fundraising group will be grilling sandwiches for lunch  \n\nKid's Costume Parade beginning at 10 a.m.\n\nPumpkin Carving Demonstration Contest beginning at 10 a.m.\n\nFall Dessert/Pie Contest beginning at 10:30 a.m.\n\nPumpkin Derby Car Race begins at 11 a.m.\n\nOpen Pumpkin Carving Contest starts at 11:30 a.m.\n\nPumpkin Painting Contest starts at Noon\n\nMinute-It-To-Win-It Games beginning at 2 p.m.\n\nLive Band from 3 p.m.- 5 p.m.\n\nFor more detailed information\, please visit our event website:\n\n\n\nhttp://dewittpumpkinfest.wix.com/dewitt-pumpkin-fest\n\n\n\nCome for the day and see what fun activities we have for fall!
X-ALT-DESC;FMTTYPE=text/html:DeWitt&#39\;s Great Pumpkin Festival<br />\nSaturday\, October 3\, 2015<br />\n10 a.m.- 5 p.m.<br />\nDowntown DeWitt on 6th Avenue<br />\n<br />\nFood and Craft Vendors all day<br />\nDeWitt Veterans Memorial Fundraising group will be grilling sandwiches for lunch &nbsp\;<br />\nKid&#39\;s Costume Parade beginning at 10 a.m.<br />\nPumpkin Carving Demonstration Contest beginning at 10 a.m.<br />\nFall Dessert/Pie Contest beginning at 10:30 a.m.<br />\nPumpkin Derby Car Race begins at 11 a.m.<br />\nOpen Pumpkin Carving Contest starts at 11:30 a.m.<br />\nPumpkin Painting Contest starts at Noon<br />\nMinute-It-To-Win-It Games beginning at 2 p.m.<br />\nLive Band from 3 p.m.- 5 p.m.<br />\nFor more detailed information\, please visit our event website:<br />\n<br />\nhttp://dewittpumpkinfest.wix.com/dewitt-pumpkin-fest<br />\n<br />\nCome for the day and see what fun activities we have for fall!
LOCATION:6th Avenue\, Downtown DeWitt
UID:e.1774.1032
SEQUENCE:3
DTSTAMP:20260421T012925Z
URL:https://business.dewittiowa.org/events/details/dewitt-s-great-pumpkin-festival-10-03-2015-1032
END:VEVENT

END:VCALENDAR
