BEGIN:VCALENDAR
VERSION:2.0
PRODID:-//ChamberMaster//Event Calendar 2.0//EN
METHOD:PUBLISH
X-PUBLISHED-TTL:P3D
REFRESH-INTERVAL:P3D
CALSCALE:GREGORIAN
BEGIN:VEVENT
DTSTART:20150423T220000Z
DTEND:20150424T010000Z
X-MICROSOFT-CDO-ALLDAYEVENT:FALSE
SUMMARY:DeWitt's Ultimate Bachelorette Party!
DESCRIPTION:Save the date!!! More info coming soon!!!\n\n\n\nVisit the event on Facebook for more details:\n\nhttps://www.facebook.com/ultbach?ref=hl
X-ALT-DESC;FMTTYPE=text/html:Save the date!!! More info&nbsp\;coming soon!!!<br />\n<br />\nVisit the event on Facebook for more details:<br />\n<a href="https://www.facebook.com/ultbach?ref=hl">https://www.facebook.com/ultbach?ref=hl</a>
LOCATION:
UID:e.1774.318
SEQUENCE:3
DTSTAMP:20260421T110817Z
URL:https://business.dewittiowa.org/events/details/dewitt-s-ultimate-bachelorette-party-04-23-2015-318
END:VEVENT

END:VCALENDAR
