BEGIN:VCALENDAR
VERSION:2.0
PRODID:-//ChamberMaster//Event Calendar 2.0//EN
METHOD:PUBLISH
X-PUBLISHED-TTL:P3D
REFRESH-INTERVAL:P3D
CALSCALE:GREGORIAN
BEGIN:VEVENT
DTSTART:20140424T220000Z
DTEND:20140425T013000Z
X-MICROSOFT-CDO-ALLDAYEVENT:FALSE
SUMMARY:DeWitt's Ultimate Bachelorette Party!
DESCRIPTION:Hop on the party bus and be shuttled to downtown DeWitt\, visit party stops feature on your "Bachelorette Map" to earn "bling"/map stamps along the way! Bachelorettes will participate in fun activities at party stops to earn "bling" with their entourage!! The party bus will take you back to Springbrooke\, where the "After Party" will begin! Take in the party atmosphere with a DJ and FREE FOOD\, Bachelorettes names will be drawn for the "Ultimate Bridal Prizes"* around 8:15PM.  Various other prizes** will be given away during the After Party as well to non-bachelorette attendees!!! Also\, New to this years event a guys "Poker Night" during the Ultimate Batchlorette Party\, this event is also free and will be held at Jorgies Bar & Grill\, 241 11th St DeWitt IA 52742. Bus Transportation will be provided from Springbrook to Jorgies for those attending Poker Night.\n\n*To be eligible for the "Ultimate Bridal Prizes" you must be a bachelorette and must complete all party stops to earn required "bling"/map stamps. Must be present to win. Additional details can be obtained the night of event at registration table. Other restrictions may apply.\n\n**Prizes are open to all attendees.  Must be present to win. Other restrictions may apply.
X-ALT-DESC;FMTTYPE=text/html:<span style="font-family: verdana\;"><span style="font-size: 12px\;">Hop on the party bus and be shuttled to downtown DeWitt\, visit party stops feature on your &ldquo\;Bachelorette Map&rdquo\; to earn &ldquo\;bling&rdquo\;/map stamps along the way! Bachelorettes will participate in fun activities at party stops to earn &ldquo\;bling&rdquo\; with their entourage!! The party bus will take you back to Springbrooke\, where the &ldquo\;After Party&rdquo\; will begin! Take in the party atmosphere with a DJ and FREE FOOD\, Bachelorettes names will be drawn for the &ldquo\;Ultimate Bridal Prizes&rdquo\;* around 8:15PM.&nbsp\; Various other prizes** will be given away during the After Party as well to non-bachelorette attendees!!!&nbsp\;Also\, New to this years event a guys &quot\;Poker Night&quot\; during the Ultimate Batchlorette Party\, this event is also free and will be held at Jorgies Bar &amp\; Grill\, 241 11th St DeWitt IA 52742. Bus Transportation will be provided from Springbrook to Jorgies for those attending Poker Night.</span></span><br />\n<span style="font-size: medium\;"><span style="font-family: calibri\;">*To be eligible for the &ldquo\;Ultimate Bridal Prizes&rdquo\; you must be a bachelorette and must complete all party stops to earn required &ldquo\;bling&rdquo\;/map stamps. Must be present to win. Additional details can be obtained the night of event at registration table. Other restrictions may apply.</span></span><br />\n<span style="font-size: medium\;"><span style="font-family: calibri\;">**Prizes are open to all attendees. &nbsp\;Must be present to win. Other restrictions may apply.</span></span><br />\n&nbsp\;
LOCATION:Springbrook Country Club 2122 17th Avenue DeWitt IA 52742
UID:e.1774.4
SEQUENCE:3
DTSTAMP:20260422T055140Z
URL:https://business.dewittiowa.org/events/details/dewitt-s-ultimate-bachelorette-party-04-24-2014-4
END:VEVENT

END:VCALENDAR
