BEGIN:VCALENDAR
VERSION:2.0
PRODID:-//ChamberMaster//Event Calendar 2.0//EN
METHOD:PUBLISH
X-PUBLISHED-TTL:P3D
REFRESH-INTERVAL:P3D
CALSCALE:GREGORIAN
BEGIN:VEVENT
DTSTART:20140426T120000Z
DTEND:20140426T180000Z
X-MICROSOFT-CDO-ALLDAYEVENT:FALSE
SUMMARY:DeWitt Spring City-Wide Garage Sale
DESCRIPTION:Advertised individual garage sale listings in the DeWitt Observer.  Times may vary by individual garage sale.
X-ALT-DESC;FMTTYPE=text/html:Advertised individual garage sale listings in the DeWitt Observer. &nbsp\;Times may vary by individual garage sale.
LOCATION:
UID:e.1774.12
SEQUENCE:3
DTSTAMP:20260422T055518Z
URL:https://business.dewittiowa.org/events/details/dewitt-spring-city-wide-garage-sale-04-26-2014-12
END:VEVENT

END:VCALENDAR
