BEGIN:VCALENDAR
VERSION:2.0
PRODID:-//ChamberMaster//Event Calendar 2.0//EN
METHOD:PUBLISH
X-PUBLISHED-TTL:P3D
REFRESH-INTERVAL:P3D
CALSCALE:GREGORIAN
BEGIN:VEVENT
DTSTART:20170429T120000Z
DTEND:20170429T180000Z
X-MICROSOFT-CDO-ALLDAYEVENT:FALSE
SUMMARY:DeWitt Spring City-Wide Garage Sale
DESCRIPTION:Advertised individual garage sale listings in the DeWitt Observer.\n\nSuggested time:  7am - 1pm. Times may vary by individual garage sale.
X-ALT-DESC;FMTTYPE=text/html:Advertised individual garage sale listings in the DeWitt Observer.<br />\n<span style="line-height: 16.64px\;">Suggested time: &nbsp\;7am&nbsp\;- 1pm.&nbsp\;</span>Times may vary by individual garage sale.
LOCATION:
UID:e.1774.1843
SEQUENCE:3
DTSTAMP:20260419T202409Z
URL:https://business.dewittiowa.org/events/details/dewitt-spring-city-wide-garage-sale-1843
END:VEVENT

END:VCALENDAR
