BEGIN:VCALENDAR
VERSION:2.0
PRODID:-//ChamberMaster//Event Calendar 2.0//EN
METHOD:PUBLISH
X-PUBLISHED-TTL:P3D
REFRESH-INTERVAL:P3D
CALSCALE:GREGORIAN
BEGIN:VEVENT
DTSTART;VALUE=DATE:20170428
DTEND;VALUE=DATE:20170430
TRANSP:TRANSPARENT
X-MICROSOFT-CDO-ALLDAYEVENT:TRUE
SUMMARY:DeWitt Spring City-Wide Garage Sale Donations
DESCRIPTION:We are grateful to all our friends and neighbors that take the additional time to drop off your unsold garage sale items.\n\n\n\nIn addition\, we would like to thank those of you who made Easter baskets donations this year. And a special thanks to DAC for all their extra help and efforts. It means so much to so many.
X-ALT-DESC;FMTTYPE=text/html:We are grateful to all our friends and neighbors that take the additional time to drop off your unsold garage sale items.<br />\n<br />\nIn addition\, we would like to thank those of you who made Easter baskets donations this year. And a special thanks to DAC for all their extra help and efforts. It means so much to so many.
LOCATION:Referral Center 615 8th Street DeWitt\, IA
UID:e.1774.2979
SEQUENCE:3
DTSTAMP:20260419T202446Z
URL:https://business.dewittiowa.org/events/details/dewitt-spring-city-wide-garage-sale-donations-2979
END:VEVENT

END:VCALENDAR
