BEGIN:VCALENDAR
VERSION:2.0
PRODID:-//ChamberMaster//Event Calendar 2.0//EN
METHOD:PUBLISH
X-PUBLISHED-TTL:P3D
REFRESH-INTERVAL:P3D
CALSCALE:GREGORIAN
BEGIN:VEVENT
DTSTART:20151108T210000Z
DTEND:20151109T010000Z
X-MICROSOFT-CDO-ALLDAYEVENT:FALSE
SUMMARY:DeWitt United Methodist Church Chicken Dinner
DESCRIPTION:Annual Chicken Dinner
X-ALT-DESC;FMTTYPE=text/html:Annual Chicken Dinner
LOCATION:DeWitt United Methodist Church
UID:e.1774.1085
SEQUENCE:3
DTSTAMP:20260420T233123Z
URL:https://business.dewittiowa.org/events/details/dewitt-united-methodist-church-chicken-dinner-11-08-2015-1085
END:VEVENT

END:VCALENDAR
