BEGIN:VCALENDAR
VERSION:2.0
PRODID:-//ChamberMaster//Event Calendar 2.0//EN
METHOD:PUBLISH
X-PUBLISHED-TTL:P3D
REFRESH-INTERVAL:P3D
CALSCALE:GREGORIAN
BEGIN:VEVENT
DTSTART:20161113T210000Z
DTEND:20161114T010000Z
X-MICROSOFT-CDO-ALLDAYEVENT:FALSE
SUMMARY:DeWitt United Methodist Church Supper & Bazaar
DESCRIPTION:
X-ALT-DESC;FMTTYPE=text/html:<br />\n&nbsp\;
LOCATION:DeWitt United Methodist Church 222 12th Street DeWitt\, IA
UID:e.1774.1696
SEQUENCE:3
DTSTAMP:20260420T043016Z
URL:https://business.dewittiowa.org/events/details/dewitt-united-methodist-church-supper-bazaar-1696
END:VEVENT

END:VCALENDAR
