BEGIN:VCALENDAR
VERSION:2.0
PRODID:-//ChamberMaster//Event Calendar 2.0//EN
METHOD:PUBLISH
X-PUBLISHED-TTL:P3D
REFRESH-INTERVAL:P3D
CALSCALE:GREGORIAN
BEGIN:VEVENT
DTSTART:20141004T140000Z
DTEND:20141004T190000Z
X-MICROSOFT-CDO-ALLDAYEVENT:FALSE
SUMMARY:DeWitt Vendor & Craft Show
DESCRIPTION:Fall Craft & Vendor Show featuring a variety of specialty name vendors and crafters! *Free Admission *Cash and Carry *Door Prizes *Lunch available for purchase with all proceeds going to Jackson County Relay for Life
X-ALT-DESC;FMTTYPE=text/html:Fall Craft &amp\; Vendor Show featuring a variety of specialty name vendors and crafters! *Free Admission *Cash and Carry *Door Prizes *Lunch available for purchase with all proceeds going to Jackson County Relay for Life
LOCATION:DeWitt Community Center 512 10th Street DeWitt\, Iowa
UID:e.1774.194
SEQUENCE:3
DTSTAMP:20260421T203702Z
URL:https://business.dewittiowa.org/events/details/dewitt-vendor-craft-show-10-04-2014-194
END:VEVENT

END:VCALENDAR
