BEGIN:VCALENDAR
VERSION:2.0
PRODID:-//ChamberMaster//Event Calendar 2.0//EN
METHOD:PUBLISH
X-PUBLISHED-TTL:P3D
REFRESH-INTERVAL:P3D
CALSCALE:GREGORIAN
BEGIN:VEVENT
DTSTART:20140823T140000Z
DTEND:20140824T020000Z
X-MICROSOFT-CDO-ALLDAYEVENT:FALSE
SUMMARY:DeWitt Volunteer Fire Department 9-pin bowling tournament fundraiser
DESCRIPTION:Non-sanctioned 9-pin Bowling Tournament. 4-person teams $60/team Cash prizes for 1st and 2nd Place teams. Shift starts at 9am\, 12pm\, 3pm\, and 6pm. Registration is 30 minutes prior to each shift time. 50/50 raffle available during each shift.
X-ALT-DESC;FMTTYPE=text/html:Non-sanctioned 9-pin Bowling Tournament. 4-person teams $60/team Cash prizes for 1st and 2nd Place teams. Shift starts at 9am\, 12pm\, 3pm\, and 6pm. Registration is 30 minutes prior to each shift time. 50/50 raffle available during each shift.
LOCATION:DeWitt Lanes 309 11th Street DeWitt Iowa
UID:e.1774.120
SEQUENCE:3
DTSTAMP:20260422T011335Z
URL:https://business.dewittiowa.org/events/details/dewitt-volunteer-fire-department-9-pin-bowling-tournament-fundraiser-08-23-2014-120
END:VEVENT

END:VCALENDAR
