BEGIN:VCALENDAR
VERSION:2.0
PRODID:-//ChamberMaster//Event Calendar 2.0//EN
METHOD:PUBLISH
X-PUBLISHED-TTL:P3D
REFRESH-INTERVAL:P3D
CALSCALE:GREGORIAN
BEGIN:VEVENT
DTSTART:20170114T180000Z
DTEND:20170115T000000Z
X-MICROSOFT-CDO-ALLDAYEVENT:FALSE
SUMMARY:DeWitt Volunteer Fire Department 9-pin Bowling Tournament Fundraiser
DESCRIPTION:Non-Sanctioned Event\n\n9-pin bowling tournament fundraiser\n\n5-person teams - $100/team\n\n1st Shift begins at Noon\n\n2nd Shift begins at 3pm\n\nCash prizes for 1st Place Teams\n\n50/50 Raffle available during each shift
X-ALT-DESC;FMTTYPE=text/html:Non-Sanctioned Event<br />\n9-pin bowling tournament fundraiser<br />\n5-person teams - $100/team<br />\n1st Shift begins at Noon<br />\n2nd Shift begins at 3pm<br />\nCash prizes for 1st Place Teams<br />\n50/50 Raffle available during each shift
LOCATION:DeWitt Lanes 309 11th Street DeWitt IA
UID:e.1774.1758
SEQUENCE:3
DTSTAMP:20260420T032041Z
URL:https://business.dewittiowa.org/events/details/dewitt-volunteer-fire-department-9-pin-bowling-tournament-fundraiser-1758
END:VEVENT

END:VCALENDAR
