BEGIN:VCALENDAR
VERSION:2.0
PRODID:-//ChamberMaster//Event Calendar 2.0//EN
METHOD:PUBLISH
X-PUBLISHED-TTL:P3D
REFRESH-INTERVAL:P3D
CALSCALE:GREGORIAN
BEGIN:VEVENT
DTSTART:20160228T000000Z
DTEND:20160228T040000Z
X-MICROSOFT-CDO-ALLDAYEVENT:FALSE
SUMMARY:DeWitt Volunteer Fire Department Euchre Tournament Fundraiser
DESCRIPTION:DeWitt Volunteer Fire Department Euchre Tournament Fundraiser\n\n\n\nRegistration begins at 6:00pm\n\nCard Play begins at 7:00pm\n\nBring your own beverages and snacks\n\nBring quarters for sets\n\nPrizes awarded for play and raffle prizes with a 50/50 drawing and silent auction.
X-ALT-DESC;FMTTYPE=text/html:<b style="color: rgb(0\, 0\, 0)\; font-family: Calibri\, sans-serif\; font-size: 14.6667px\; line-height: normal\;"><span style="font-size: 16pt\; font-family: Verdana\, sans-serif\;">DeWitt Volunteer Fire Department Euchre Tournament Fundraiser</span></b><br />\n<br />\n<span style="font-family:verdana\,sans-serif\;"><span style="font-size:12pt\;">Registration begins at&nbsp\;<span data-term="goog_876940609" style="border-bottom-width:1px\;border-bottom-style:dashed\;position:relative\;top:-2px\;z-index:0\;" tabindex="0"><span style="position:relative\;top:2px\;z-index:-1\;">6:00pm</span></span></span></span><br />\n<span style="font-family:verdana\,sans-serif\;"><span style="font-size:12pt\;">Card Play begins at&nbsp\;<span data-term="goog_876940610" style="border-bottom-width:1px\;border-bottom-style:dashed\;position:relative\;top:-2px\;z-index:0\;" tabindex="0"><span style="position:relative\;top:2px\;z-index:-1\;">7:00pm</span></span></span></span><br />\n<span style="font-family:verdana\,sans-serif\;"><span style="font-size:12pt\;">Bring your own beverages and snacks</span></span><br />\n<span style="font-family:verdana\,sans-serif\;"><span style="font-size:12pt\;">Bring quarters for sets</span></span><br />\n<span style="font-family:verdana\,sans-serif\;"><span style="font-size:12pt\;">Prizes awarded for play and raffle prizes with a 50/50 drawing and silent auction.</span></span>
LOCATION:Clinton County Fairgrounds Auditorium --328 8th Street DeWitt
UID:e.1774.1218
SEQUENCE:3
DTSTAMP:20260420T183815Z
URL:https://business.dewittiowa.org/events/details/dewitt-volunteer-fire-department-euchre-tournament-fundraiser-02-27-2016-1218
END:VEVENT

END:VCALENDAR
