BEGIN:VCALENDAR
VERSION:2.0
PRODID:-//ChamberMaster//Event Calendar 2.0//EN
METHOD:PUBLISH
X-PUBLISHED-TTL:P3D
REFRESH-INTERVAL:P3D
CALSCALE:GREGORIAN
BEGIN:VEVENT
DTSTART:20170226T000000Z
DTEND:20170226T040000Z
X-MICROSOFT-CDO-ALLDAYEVENT:FALSE
SUMMARY:DeWitt Volunteer Fire Department Euchre Tournament Fundraiser
DESCRIPTION:Euchre Tournament Fundraiser\n\nRegistration begins at 6pm at the Clinton Co. Fairgrounds in DeWitt\n\n$15/person\n\nCard play begins at 7pm\n\nBring your own drinks and snacks\n\nQuarters are needed for SETS\n\nPrizes awarded for play\, raffle prizes\, 50/50 drawing\, and silent auction
X-ALT-DESC;FMTTYPE=text/html:Euchre Tournament Fundraiser<br />\nRegistration begins at 6pm at the Clinton Co. Fairgrounds in DeWitt<br />\n$15/person<br />\nCard play begins at 7pm<br />\nBring your own drinks and snacks<br />\nQuarters are needed for SETS<br />\nPrizes awarded for play\, raffle prizes\, 50/50 drawing\, and silent auction
LOCATION:Clinton Co. Fairgrounds Auditorium 328 8th Street East DeWitt IA
UID:e.1774.1759
SEQUENCE:3
DTSTAMP:20260419T235417Z
URL:https://business.dewittiowa.org/events/details/dewitt-volunteer-fire-department-euchre-tournament-fundraiser-1759
END:VEVENT

END:VCALENDAR
