BEGIN:VCALENDAR
VERSION:2.0
PRODID:-//ChamberMaster//Event Calendar 2.0//EN
METHOD:PUBLISH
X-PUBLISHED-TTL:P3D
REFRESH-INTERVAL:P3D
CALSCALE:GREGORIAN
BEGIN:VEVENT
DTSTART:20160629T153000Z
DTEND:20160629T183000Z
X-MICROSOFT-CDO-ALLDAYEVENT:FALSE
SUMMARY:DeWitt Volunteer Fire Department Lunch Stand Fundraiser
DESCRIPTION:Ribeye Sandwich Meal $8\n\nPork Chop Sandwich Meal $5\n\n\n\nAll proceeds go to help fund equipment purchases needed to maintain safety and protection.
X-ALT-DESC;FMTTYPE=text/html:<br />\n&#8203\;Ribeye Sandwich Meal $8<br />\nPork Chop Sandwich Meal $5<br />\n<br />\nAll proceeds go to help fund equipment purchases needed to maintain safety and protection.
LOCATION:711 10th Street DeWitt
UID:e.1774.1376
SEQUENCE:3
DTSTAMP:20260420T135832Z
URL:https://business.dewittiowa.org/events/details/dewitt-volunteer-fire-department-lunch-stand-fundraiser-06-29-2016-1376
END:VEVENT

END:VCALENDAR
