BEGIN:VCALENDAR
VERSION:2.0
PRODID:-//ChamberMaster//Event Calendar 2.0//EN
METHOD:PUBLISH
X-PUBLISHED-TTL:P3D
REFRESH-INTERVAL:P3D
CALSCALE:GREGORIAN
BEGIN:VEVENT
DTSTART:20170522T223000Z
DTEND:20170523T020000Z
X-MICROSOFT-CDO-ALLDAYEVENT:FALSE
SUMMARY:Documentary "Class of 27" by Jim Rutenbeck
DESCRIPTION:Jim Rutenbeck is a Central DeWitt Alumni and has done many documentaries. This documentary is on the education of our children in different areas of our country.
X-ALT-DESC;FMTTYPE=text/html:Jim Rutenbeck is a Central DeWitt Alumni and has done many documentaries. This documentary is on the education of our children in different areas of our country.
LOCATION:DeWitt Opreahouse Theater 716 6th St. DeWitt
UID:e.1774.3018
SEQUENCE:3
DTSTAMP:20260419T184151Z
URL:https://business.dewittiowa.org/events/details/documentary-class-of-27-by-jim-rutenbeck-3018
END:VEVENT

END:VCALENDAR
