BEGIN:VCALENDAR
VERSION:2.0
PRODID:-//ChamberMaster//Event Calendar 2.0//EN
METHOD:PUBLISH
X-PUBLISHED-TTL:P3D
REFRESH-INTERVAL:P3D
CALSCALE:GREGORIAN
BEGIN:VEVENT
DTSTART:20160925T183000Z
DTEND:20160925T220000Z
X-MICROSOFT-CDO-ALLDAYEVENT:FALSE
SUMMARY:Dodge Ball Tournament
DESCRIPTION:Dodgeball Tournament hosted by Camanche-DeWitt Coalition. Dedicated to the safety and wellbeing of our youth. Curtis Fry to speak about C.H.O.I.C.E.S prior to tournament.
X-ALT-DESC;FMTTYPE=text/html:Dodgeball Tournament hosted by Camanche-DeWitt Coalition. Dedicated to the safety and wellbeing of our youth. Curtis Fry to speak about C.H.O.I.C.E.S prior to tournament.
LOCATION:Central DeWitt Community High School Gym
UID:e.1774.1583
SEQUENCE:3
DTSTAMP:20260420T073720Z
URL:https://business.dewittiowa.org/events/details/dodge-ball-tournament-1583
END:VEVENT

END:VCALENDAR
