BEGIN:VCALENDAR
VERSION:2.0
PRODID:-//ChamberMaster//Event Calendar 2.0//EN
METHOD:PUBLISH
X-PUBLISHED-TTL:P3D
REFRESH-INTERVAL:P3D
CALSCALE:GREGORIAN
BEGIN:VEVENT
DTSTART;VALUE=DATE:20140624
DTEND;VALUE=DATE:20140625
TRANSP:TRANSPARENT
X-MICROSOFT-CDO-ALLDAYEVENT:TRUE
SUMMARY:Dr. Jim Wand "Beyond Imagination"
DESCRIPTION:Jim Wand has been involved in the field of hypnosis as educator\, therapist\, self practitioner and entertainer for almost twenty years.  His background in psychology\, sociology\, and counseling and NLP\, along with years of experience has earned him national acclaim in the field of hypnosis.\n\n\n\n\n\nHis keen wit\, charismatic personality and knowledge in the field\, as well as innate showmanship abilities\, has place him in a category by himself.\n\n\n\n \n\nHe has worked with such personalities as Jay Leno\, 8 different NFL teams\, George Strait\, The Judds\, and Michael Jordan.  His presentations involve audience participation\, are always tastefully done\, and are custom designed to meet the needs of each audience.\n\n \n\nDr. Jim Wand incorporates humor and educational expertise as well as self-help techniques to totally involve everyone in your group!
X-ALT-DESC;FMTTYPE=text/html:<p style="margin: 0px\; padding: 0px 0px 7px\; border: 0px\; font-family: Verdana\, Arial\, Helvetica\, sans-serif\; font-size: 11px\; line-height: 16px\; vertical-align: baseline\; color: rgb(68\, 68\, 68)\;">Jim Wand has been involved in the field of hypnosis as educator\, therapist\, self practitioner and entertainer for almost twenty years.&nbsp\; His background in psychology\, sociology\, and counseling and NLP\, along with years of experience has earned him national acclaim in the field of hypnosis.</p>\n\n<p style="margin: 0px\; padding: 0px 0px 7px\; border: 0px\; font-family: Verdana\, Arial\, Helvetica\, sans-serif\; font-size: 11px\; line-height: 16px\; vertical-align: baseline\; color: rgb(68\, 68\, 68)\;"><br />\n<br />\nHis keen wit\, charismatic personality and knowledge in the field\, as well as innate showmanship abilities\, has place him in a category by himself.<br />\n<br />\n&nbsp\;</p>\n\n<p style="margin: 0px\; padding: 0px 0px 7px\; border: 0px\; font-family: Verdana\, Arial\, Helvetica\, sans-serif\; font-size: 11px\; line-height: 16px\; vertical-align: baseline\; color: rgb(68\, 68\, 68)\;">He has worked with such personalities as Jay Leno\, 8 different NFL teams\, George Strait\, The Judds\, and Michael Jordan.&nbsp\; His presentations involve audience participation\, are always tastefully done\, and are custom designed to meet the needs of each audience.<br />\n&nbsp\;</p>\n\n<p style="margin: 0px\; padding: 0px 0px 7px\; border: 0px\; font-family: Verdana\, Arial\, Helvetica\, sans-serif\; font-size: 11px\; line-height: 16px\; vertical-align: baseline\; color: rgb(68\, 68\, 68)\;">Dr. Jim Wand incorporates humor and educational expertise as well as self-help techniques to totally involve everyone in your group!</p>\n
LOCATION:Central Performing Arts Center 519 E. 11th St. DeWitt\, IA
UID:e.1774.71
SEQUENCE:3
DTSTAMP:20260422T025515Z
URL:https://business.dewittiowa.org/events/details/dr-jim-wand-beyond-imagination-06-24-2014-71
END:VEVENT

END:VCALENDAR
