BEGIN:VCALENDAR
VERSION:2.0
PRODID:-//ChamberMaster//Event Calendar 2.0//EN
METHOD:PUBLISH
X-PUBLISHED-TTL:P3D
REFRESH-INTERVAL:P3D
CALSCALE:GREGORIAN
BEGIN:VEVENT
DTSTART:20170820T220000Z
DTEND:20170821T000000Z
X-MICROSOFT-CDO-ALLDAYEVENT:FALSE
SUMMARY:DUMC Ice Cream Social
DESCRIPTION:food and fun
X-ALT-DESC;FMTTYPE=text/html:food and fun
LOCATION:DeWitt United Methodist Church 222 12th. St.
UID:e.1774.3211
SEQUENCE:3
DTSTAMP:20260419T133911Z
URL:https://business.dewittiowa.org/events/details/dumc-ice-cream-social-3211
END:VEVENT

END:VCALENDAR
