BEGIN:VCALENDAR
VERSION:2.0
PRODID:-//ChamberMaster//Event Calendar 2.0//EN
METHOD:PUBLISH
X-PUBLISHED-TTL:P3D
REFRESH-INTERVAL:P3D
CALSCALE:GREGORIAN
BEGIN:VEVENT
DTSTART:20160909T160000Z
DTEND:20160909T190000Z
X-MICROSOFT-CDO-ALLDAYEVENT:FALSE
SUMMARY:Eagle Scout Brat Stand Fundraiser for Matthew Marvin
DESCRIPTION:Matthew Marvin is working towards the completion of his Eagle Scout Project. A portion of the proceeds support his Eagle Scout Project to landscape the area around the north and west walls of Ekstrand Elementary. Serving brats/hotdogs\, chips\, baked goods and a drink. Will deliver to local businesses. Call or text (563)370-6978 to order
X-ALT-DESC;FMTTYPE=text/html:Matthew Marvin is working towards the completion of his Eagle Scout Project. A portion of the proceeds support his Eagle Scout Project to landscape the area around the north and west walls of Ekstrand Elementary. Serving brats/hotdogs\, chips\, baked goods and a drink. Will deliver to local businesses. Call or text (563)370-6978 to order
LOCATION:Barnes Foodland parking lot
UID:e.1774.1584
SEQUENCE:3
DTSTAMP:20260420T073949Z
URL:https://business.dewittiowa.org/events/details/eagle-scout-brat-stand-fundraiser-for-matthew-marvin-1584
END:VEVENT

END:VCALENDAR
