BEGIN:VCALENDAR
VERSION:2.0
PRODID:-//ChamberMaster//Event Calendar 2.0//EN
METHOD:PUBLISH
X-PUBLISHED-TTL:P3D
REFRESH-INTERVAL:P3D
CALSCALE:GREGORIAN
BEGIN:VEVENT
DTSTART:20170111T193000Z
DTEND:20170111T213000Z
X-MICROSOFT-CDO-ALLDAYEVENT:FALSE
SUMMARY:Early Out Movie
DESCRIPTION:Finding Dory\; PG\; 97 minutes
X-ALT-DESC;FMTTYPE=text/html:<em>Finding Dory</em>\; PG\; 97 minutes
LOCATION:Library Meeting Room Frances Banta Waggoner Community Library 505 10th St. DeWitt\, IA
UID:e.1774.1734
SEQUENCE:3
DTSTAMP:20260420T025836Z
URL:https://business.dewittiowa.org/events/details/early-out-movie-01-11-2017-1734
END:VEVENT

END:VCALENDAR
