BEGIN:VCALENDAR
VERSION:2.0
PRODID:-//ChamberMaster//Event Calendar 2.0//EN
METHOD:PUBLISH
X-PUBLISHED-TTL:P3D
REFRESH-INTERVAL:P3D
CALSCALE:GREGORIAN
BEGIN:VEVENT
DTSTART:20170125T193000Z
DTEND:20170125T213000Z
X-MICROSOFT-CDO-ALLDAYEVENT:FALSE
SUMMARY:Early Out Movie
DESCRIPTION:Secret Life of Pets\; PG\; 87 minutes
X-ALT-DESC;FMTTYPE=text/html:<em>Secret Life of Pets</em>\; PG\; 87 minutes
LOCATION:Library Meeting Room Frances Banta Waggoner Community Library 505 10th St. DeWitt\, IA
UID:e.1774.1735
SEQUENCE:3
DTSTAMP:20260420T013816Z
URL:https://business.dewittiowa.org/events/details/early-out-movie-01-25-2017-1735
END:VEVENT

END:VCALENDAR
