BEGIN:VCALENDAR
VERSION:2.0
PRODID:-//ChamberMaster//Event Calendar 2.0//EN
METHOD:PUBLISH
X-PUBLISHED-TTL:P3D
REFRESH-INTERVAL:P3D
CALSCALE:GREGORIAN
BEGIN:VEVENT
DTSTART:20170208T193000Z
DTEND:20170208T213000Z
X-MICROSOFT-CDO-ALLDAYEVENT:FALSE
SUMMARY:Early Out Movie
DESCRIPTION:The Jungle Book 2016\; PG\; Running time 106 minutes
X-ALT-DESC;FMTTYPE=text/html:<em>The Jungle Book 2016</em>\; PG\; Running time 106 minutes
LOCATION:Frances Banta Waggoner Community Library Meeting Room 505 10th St. DeWitt\, IA
UID:e.1774.1825
SEQUENCE:3
DTSTAMP:20260420T013755Z
URL:https://business.dewittiowa.org/events/details/early-out-movie-02-08-2017-1825
END:VEVENT

END:VCALENDAR
