BEGIN:VCALENDAR
VERSION:2.0
PRODID:-//ChamberMaster//Event Calendar 2.0//EN
METHOD:PUBLISH
X-PUBLISHED-TTL:P3D
REFRESH-INTERVAL:P3D
CALSCALE:GREGORIAN
BEGIN:VEVENT
DTSTART:20170308T193000Z
DTEND:20170308T210000Z
X-MICROSOFT-CDO-ALLDAYEVENT:FALSE
SUMMARY:Early Out Movie
DESCRIPTION:The Emperor's New Groove\; Rated PG
X-ALT-DESC;FMTTYPE=text/html:<em>The Emperor&#39\;s New Groove</em>\; Rated PG
LOCATION:Library Meeting Room 505 10th St. DeWitt
UID:e.1774.1868
SEQUENCE:3
DTSTAMP:20260419T221300Z
URL:https://business.dewittiowa.org/events/details/early-out-movie-03-08-2017-1868
END:VEVENT

END:VCALENDAR
