BEGIN:VCALENDAR
VERSION:2.0
PRODID:-//ChamberMaster//Event Calendar 2.0//EN
METHOD:PUBLISH
X-PUBLISHED-TTL:P3D
REFRESH-INTERVAL:P3D
CALSCALE:GREGORIAN
BEGIN:VEVENT
DTSTART:20170329T183000Z
DTEND:20170329T200000Z
X-MICROSOFT-CDO-ALLDAYEVENT:FALSE
SUMMARY:Early Out Movie
DESCRIPTION:Willy Wonka and the Chocolate Factory\; Rated PG
X-ALT-DESC;FMTTYPE=text/html:<em>Willy Wonka and the Chocolate Factory</em>\; Rated PG
LOCATION:Library Meeting Room 505 10th St. DeWitt
UID:e.1774.1869
SEQUENCE:3
DTSTAMP:20260419T221355Z
URL:https://business.dewittiowa.org/events/details/early-out-movie-03-29-2017-1869
END:VEVENT

END:VCALENDAR
