BEGIN:VCALENDAR
VERSION:2.0
PRODID:-//ChamberMaster//Event Calendar 2.0//EN
METHOD:PUBLISH
X-PUBLISHED-TTL:P3D
REFRESH-INTERVAL:P3D
CALSCALE:GREGORIAN
BEGIN:VEVENT
DTSTART:20170412T183000Z
DTEND:20170412T203000Z
X-MICROSOFT-CDO-ALLDAYEVENT:FALSE
SUMMARY:Early Out Movie
DESCRIPTION:Disney's The BFG
X-ALT-DESC;FMTTYPE=text/html:Disney&#39\;s <em>The BFG</em>
LOCATION:Meeting Room Frances Banta Waggoner Community Library 505 10th St. DeWitt\, IA
UID:e.1774.2941
SEQUENCE:3
DTSTAMP:20260419T201955Z
URL:https://business.dewittiowa.org/events/details/early-out-movie-04-12-2017-2941
END:VEVENT

END:VCALENDAR
