BEGIN:VCALENDAR
VERSION:2.0
PRODID:-//ChamberMaster//Event Calendar 2.0//EN
METHOD:PUBLISH
X-PUBLISHED-TTL:P3D
REFRESH-INTERVAL:P3D
CALSCALE:GREGORIAN
BEGIN:VEVENT
DTSTART:20170426T183000Z
DTEND:20170426T203000Z
X-MICROSOFT-CDO-ALLDAYEVENT:FALSE
SUMMARY:Early Out Movie
DESCRIPTION:Storks
X-ALT-DESC;FMTTYPE=text/html:<em>Storks</em>
LOCATION:DeWitt Library Meeting Room Frances Banta Waggoner Community Library 505 10th St. DeWitt\, IA
UID:e.1774.2942
SEQUENCE:3
DTSTAMP:20260419T201943Z
URL:https://business.dewittiowa.org/events/details/early-out-movie-04-26-2017-2942
END:VEVENT

END:VCALENDAR
