BEGIN:VCALENDAR
VERSION:2.0
PRODID:-//ChamberMaster//Event Calendar 2.0//EN
METHOD:PUBLISH
X-PUBLISHED-TTL:P3D
REFRESH-INTERVAL:P3D
CALSCALE:GREGORIAN
BEGIN:VEVENT
DTSTART:20161012T183000Z
DTEND:20161012T201500Z
X-MICROSOFT-CDO-ALLDAYEVENT:FALSE
SUMMARY:Early Out Movie
DESCRIPTION:The movie Ratatouille\, rated G\, will be shown.
X-ALT-DESC;FMTTYPE=text/html:The movie Ratatouille\, rated G\, will be shown.
LOCATION:Frances Banta Waggoner Community Library 505 10th St. DeWitt
UID:e.1774.1604
SEQUENCE:3
DTSTAMP:20260420T074051Z
URL:https://business.dewittiowa.org/events/details/early-out-movie-10-12-2016-1604
END:VEVENT

END:VCALENDAR
