BEGIN:VCALENDAR
VERSION:2.0
PRODID:-//ChamberMaster//Event Calendar 2.0//EN
METHOD:PUBLISH
X-PUBLISHED-TTL:P3D
REFRESH-INTERVAL:P3D
CALSCALE:GREGORIAN
BEGIN:VEVENT
DTSTART:20161026T183000Z
DTEND:20161026T203000Z
X-MICROSOFT-CDO-ALLDAYEVENT:FALSE
SUMMARY:Early Out Movie
DESCRIPTION:The movie Monster House\, rated PG\, will be shown.
X-ALT-DESC;FMTTYPE=text/html:The movie&nbsp\;Monster House\, rated PG\, will be shown.
LOCATION:Frances Banta Waggoner Community Library
UID:e.1774.1605
SEQUENCE:3
DTSTAMP:20260420T074041Z
URL:https://business.dewittiowa.org/events/details/early-out-movie-10-26-2016-1605
END:VEVENT

END:VCALENDAR
