BEGIN:VCALENDAR
VERSION:2.0
PRODID:-//ChamberMaster//Event Calendar 2.0//EN
METHOD:PUBLISH
X-PUBLISHED-TTL:P3D
REFRESH-INTERVAL:P3D
CALSCALE:GREGORIAN
BEGIN:VEVENT
DTSTART:20161109T193000Z
DTEND:20161109T211500Z
X-MICROSOFT-CDO-ALLDAYEVENT:FALSE
SUMMARY:Early Out Movie
DESCRIPTION:Zookeeper\; PG\; 102 minutes
X-ALT-DESC;FMTTYPE=text/html:<em>Zookeeper</em>\; PG\; 102 minutes
LOCATION:Frances Banta Waggoner Community Library 505 10th St. DeWitt\, IA 52742
UID:e.1774.1642
SEQUENCE:3
DTSTAMP:20260420T061335Z
URL:https://business.dewittiowa.org/events/details/early-out-movie-11-09-2016-1642
END:VEVENT

END:VCALENDAR
