BEGIN:VCALENDAR
VERSION:2.0
PRODID:-//ChamberMaster//Event Calendar 2.0//EN
METHOD:PUBLISH
X-PUBLISHED-TTL:P3D
REFRESH-INTERVAL:P3D
CALSCALE:GREGORIAN
BEGIN:VEVENT
DTSTART:20161214T193000Z
DTEND:20161214T213000Z
X-MICROSOFT-CDO-ALLDAYEVENT:FALSE
SUMMARY:Early Out Movie
DESCRIPTION:The Santa Claus\; PG
X-ALT-DESC;FMTTYPE=text/html:The Santa Claus\; PG
LOCATION:Library Meeting Room Frances Banta Waggoner Community Library 505 10th St. DeWitt\, IA
UID:e.1774.1707
SEQUENCE:3
DTSTAMP:20260420T043351Z
URL:https://business.dewittiowa.org/events/details/early-out-movie-12-14-2016-1707
END:VEVENT

END:VCALENDAR
