BEGIN:VCALENDAR
VERSION:2.0
PRODID:-//ChamberMaster//Event Calendar 2.0//EN
METHOD:PUBLISH
X-PUBLISHED-TTL:P3D
REFRESH-INTERVAL:P3D
CALSCALE:GREGORIAN
BEGIN:VEVENT
DTSTART:20160928T183000Z
DTEND:20160928T201500Z
X-MICROSOFT-CDO-ALLDAYEVENT:FALSE
SUMMARY:Early Out Movie
DESCRIPTION:The movie Nanny McPhee\, rated PG\, will be shown.
X-ALT-DESC;FMTTYPE=text/html:The movie Nanny McPhee\,&nbsp\;rated&nbsp\;PG\, will be shown.
LOCATION:Frances Banta Waggoner Community Library 505 10th St. DeWitt
UID:e.1774.1603
SEQUENCE:3
DTSTAMP:20260420T073841Z
URL:https://business.dewittiowa.org/events/details/early-out-movie-1603
END:VEVENT

END:VCALENDAR
