BEGIN:VCALENDAR
VERSION:2.0
PRODID:-//ChamberMaster//Event Calendar 2.0//EN
METHOD:PUBLISH
X-PUBLISHED-TTL:P3D
REFRESH-INTERVAL:P3D
CALSCALE:GREGORIAN
BEGIN:VEVENT
DTSTART:20170416T153000Z
DTEND:20170416T183000Z
X-MICROSOFT-CDO-ALLDAYEVENT:FALSE
SUMMARY:Easter Brunch - Brook's Bistro
DESCRIPTION:Everyone Welcome - Seating on the 1/2 hour\n\nEnjoy Chef Dean's Carved Prime Rib & all the fixings!
X-ALT-DESC;FMTTYPE=text/html:Everyone Welcome - Seating on the 1/2 hour<br />\nEnjoy Chef Dean&#39\;s Carved Prime Rib &amp\; all the fixings!<br />\n<br />\n<br />\n&nbsp\;
LOCATION:
UID:e.1774.2978
SEQUENCE:3
DTSTAMP:20260419T201327Z
URL:https://business.dewittiowa.org/events/details/easter-brunch-brook-s-bistro-2978
END:VEVENT

END:VCALENDAR
