BEGIN:VCALENDAR
VERSION:2.0
PRODID:-//ChamberMaster//Event Calendar 2.0//EN
METHOD:PUBLISH
X-PUBLISHED-TTL:P3D
REFRESH-INTERVAL:P3D
CALSCALE:GREGORIAN
BEGIN:VEVENT
DTSTART:20160313T180000Z
DTEND:20160313T190000Z
X-MICROSOFT-CDO-ALLDAYEVENT:FALSE
SUMMARY:Easter Egg Hunt
DESCRIPTION:For kids ages 1-9 years old. This event will be held rain\, shine\, or snow.
X-ALT-DESC;FMTTYPE=text/html:For kids ages 1-9 years old. This event will be held rain\, shine\, or snow.
LOCATION:Grace Camp 2675 242nd St. DeWitt\, IA 52742
UID:e.1774.1255
SEQUENCE:3
DTSTAMP:20260420T164959Z
URL:https://business.dewittiowa.org/events/details/easter-egg-hunt-03-13-2016-1255
END:VEVENT

END:VCALENDAR
