BEGIN:VCALENDAR
VERSION:2.0
PRODID:-//ChamberMaster//Event Calendar 2.0//EN
METHOD:PUBLISH
X-PUBLISHED-TTL:P3D
REFRESH-INTERVAL:P3D
CALSCALE:GREGORIAN
BEGIN:VEVENT
DTSTART:20150210T173000Z
DTEND:20150210T190000Z
X-MICROSOFT-CDO-ALLDAYEVENT:FALSE
SUMMARY:"eat Lunch and Learn something"
DESCRIPTION:YouTube and LinkedIn:  Watch Your Business Presence Grow Digitally\, presented by DCDC member TAG Communications\n\n\n\nDid you know that websites are 52 times more likely to be found when a YouTube video is embedded in it\, or that LinkedIn sends nearly four times more people to your homepage than Twitter and Facebook? Join TAG Communications for an interactive presentation about LinkedIn and YouTube that will showcase real-world examples\, show you the steps to succeed on these platforms and provide key takeaways\, including:\n\n\n	Statistics on using these social platforms to increase your digital footprint\n	Specific examples of how to leverage each platform for success\n	Tips for utilizing each platform to meet your business' goals\n	Ways to leverage your DCDC membership with social media \n\n\nIs your business ready to grow digitally in 2015?
X-ALT-DESC;FMTTYPE=text/html:<br />\n<strong><span style="font-size: 12pt\;"><span style="font-family: arial\,sans-serif\;"><span style="color: rgb(51\, 51\, 51)\;">YouTube and LinkedIn: &nbsp\;Watch Your Business Presence Grow Digitally\, presented by DCDC member TAG Communications</span></span></span></strong><br />\n<br />\n<span style="font-size: 12pt\;"><span style="font-family: arial\,sans-serif\;">Did you know that websites are 52 times more likely to be found when a YouTube video is embedded in it\, or that LinkedIn sends nearly four times more people to your homepage than Twitter and Facebook? Join TAG Communications for an interactive presentation about LinkedIn and YouTube that will showcase real-world examples\, show you the steps to succeed on these platforms and provide key takeaways\, including:</span></span>\n\n<ul>\n	<li style="font-weight: normal\;"><span style="font-size: 12pt\;"><span style="font-family: arial\,sans-serif\;"><span style="color: rgb(51\, 51\, 51)\;">Statistics on using these social platforms to increase your digital footprint</span></span></span></li>\n	<li style="color: black\; font-family: Myriad Pro\,sans-serif\; font-size: 12pt\; font-weight: normal\;"><span style="font-size: 12pt\;"><span style="font-family: arial\,sans-serif\;"><span style="color: black\;">Specific examples of how to leverage each platform for success</span></span></span></li>\n	<li style="color: black\; font-family: Myriad Pro\,sans-serif\; font-size: 12pt\; font-weight: normal\;"><span style="font-size: 12pt\;"><span style="font-family: arial\,sans-serif\;"><span style="color: black\;">Tips for utilizing each platform to meet your business&rsquo\; goals</span></span></span></li>\n	<li style="color: black\; font-family: Myriad Pro\,sans-serif\; font-size: 12pt\; font-weight: normal\;"><span style="font-size: 12pt\;"><span style="font-family: arial\,sans-serif\;"><span style="color: black\;">Ways to leverage your DCDC membership with social media&nbsp\;</span></span></span></li>\n</ul>\n\n<div style="color: black\; font-family: Myriad Pro\,sans-serif\; font-size: 12pt\; font-weight: normal\;"><strong><em><span style="font-size: 12pt\;"><span style="font-family: arial\,sans-serif\;"><span style="color: rgb(51\, 51\, 51)\;">Is your business ready to grow digitally in 2015?</span></span></span></em></strong></div>\n
LOCATION:Clinton County Satellite Office 226 11th Street\, DeWitt
UID:e.1774.238
SEQUENCE:3
DTSTAMP:20260421T142050Z
URL:https://business.dewittiowa.org/events/details/eat-lunch-and-learn-something-02-10-2015-238
END:VEVENT

END:VCALENDAR
