BEGIN:VCALENDAR
VERSION:2.0
PRODID:-//ChamberMaster//Event Calendar 2.0//EN
METHOD:PUBLISH
X-PUBLISHED-TTL:P3D
REFRESH-INTERVAL:P3D
CALSCALE:GREGORIAN
BEGIN:VEVENT
DTSTART:20140722T170000Z
DTEND:20140722T180000Z
X-MICROSOFT-CDO-ALLDAYEVENT:FALSE
SUMMARY:"eat Lunch & Learn something"
DESCRIPTION:Jeremy Tatman\, Franchised Restaurant Operator from the Davenport Chick-fil-A\, will be speaking about the importance of customer service and the Chick-fil-A customer service philosophy! Get inspired by Jeremy and walk away with some new customer service ideas.
X-ALT-DESC;FMTTYPE=text/html:<p><font size="3">Jeremy Tatman\, Franchised Restaurant Operator from the Davenport Chick-fil-A\, will be speaking about the importance of customer service and the Chick-fil-A customer service philosophy! <strong>Get inspired by Jeremy and walk away with some new customer service ideas. </strong></font></p>\n
LOCATION:DeWitt Community Center (Large Room)
UID:e.1774.19
SEQUENCE:3
DTSTAMP:20260422T010716Z
URL:https://business.dewittiowa.org/events/details/eat-lunch-learn-something-07-22-2014-19
END:VEVENT

END:VCALENDAR
