BEGIN:VCALENDAR
VERSION:2.0
PRODID:-//ChamberMaster//Event Calendar 2.0//EN
METHOD:PUBLISH
X-PUBLISHED-TTL:P3D
REFRESH-INTERVAL:P3D
CALSCALE:GREGORIAN
BEGIN:VEVENT
DTSTART:20141111T180000Z
DTEND:20141111T190000Z
X-MICROSOFT-CDO-ALLDAYEVENT:FALSE
SUMMARY:"eat Lunch & Learn something"
DESCRIPTION:Comprehensive Rehab Inc will present "Stay Fit in the Workplace". This informative session will cover benefits of exercise & stretching\, proper ergonomics at work\, safe lifting techniques\, along with the importance of proper nutrition and staying hydrated .
X-ALT-DESC;FMTTYPE=text/html:<span style="font-size: 12pt\;">Comprehensive Rehab Inc will present &ldquo\;Stay Fit in the Workplace&rdquo\;. This informative session will cover benefits of exercise &amp\; stretching\, proper ergonomics at work\, safe lifting techniques\, along with the importance of proper nutrition and staying hydrated .&nbsp\;</span>
LOCATION:DeWitt Community Center (in Lincoln Park) 512 10th St. DeWitt\, IA Program will be held in the Large Room.
UID:e.1774.20
SEQUENCE:3
DTSTAMP:20260421T185852Z
URL:https://business.dewittiowa.org/events/details/eat-lunch-learn-something-11-11-2014-20
END:VEVENT

END:VCALENDAR
