BEGIN:VCALENDAR
VERSION:2.0
PRODID:-//ChamberMaster//Event Calendar 2.0//EN
METHOD:PUBLISH
X-PUBLISHED-TTL:P3D
REFRESH-INTERVAL:P3D
CALSCALE:GREGORIAN
BEGIN:VEVENT
DTSTART:20160209T173000Z
DTEND:20160209T190000Z
X-MICROSOFT-CDO-ALLDAYEVENT:FALSE
SUMMARY:"eat Lunch & Learn something" Discovering Your Businesses Strengths\, Weaknesses\, Opportunities and Threats (SWOT)
DESCRIPTION:SWOT is a tool that identifies the strengths\, weaknesses\, opportunities and threats of a business or organization.  This session will be presented by Chief Porter with the DeWitt Police Department and the SWOT analysis will be focused around facility and staff security and safety. SWOT is a basic\, straightforward model that assesses what an organization can and cannot do as well as its potential opportunities and threats. The method of SWOT analysis is to take the information from an environmental analysis and separate it into internal (strengths and weaknesses) and external issues (opportunities and threats). Once this is completed\, SWOT analysis determines what may assist the firm in accomplishing its objectives\, and what obstacles must be overcome or minimized to achieve desired results. Find out more about SWOT here.
X-ALT-DESC;FMTTYPE=text/html:<h2 style="-webkit-tap-highlight-color: transparent\; font-family: sourcesanspro-regular-webfont\, Helvetica\, Arial\, Verdana\, sans-serif\; color: rgb(54\, 47\, 45)\; font-weight: normal\; margin: 0.1em 0px\; font-size: 22px\; -webkit-text-stroke-width: 0.15px\;"><span style="font-size:12px\;">SWOT is a&nbsp\;tool that identifies the&nbsp\;<strong style="-webkit-tap-highlight-color: transparent\;">s</strong>trengths\,&nbsp\;<strong style="-webkit-tap-highlight-color: transparent\;">w</strong>eaknesses\,&nbsp\;<strong style="-webkit-tap-highlight-color: transparent\;">o</strong>pportunities and<strong style="-webkit-tap-highlight-color: transparent\;">&nbsp\;t</strong>hreats of a&nbsp\;business or&nbsp\;organization. &nbsp\;This session&nbsp\;will be presented&nbsp\;by&nbsp\;Chief&nbsp\;Porter&nbsp\;with the DeWitt Police&nbsp\;Department and the&nbsp\;</span><em><strong><span style="font-family: Calibri\, sans-serif\; font-size: 14.6667px\; background-color: rgb(255\, 255\, 255)\;">SWOT analysis&nbsp\;will be focused around facility and staff security and </span></strong></em><span style="font-family: Calibri\, sans-serif\; font-size: 14.6667px\; background-color: rgb(255\, 255\, 255)\;"><em><strong>safety</strong></em>.&nbsp\;</span><span style="font-size:12px\;">SWOT</span><span style="font-size:12px\;"> is a basic\, straightforward model that assesses what an organization can and cannot do as well as its potential opportunities and threats. The method of SWOT analysis is to take the information from an environmental analysis and separate it into internal (strengths and weaknesses) and external issues (opportunities and threats). Once this is completed\, SWOT analysis&nbsp\;determines what may assist the firm in accomplishing its objectives\, and what obstacles must be overcome or minimized to achieve desired results. <a href="http://www.investopedia.com/terms/s/swot.asp" target="_blank">Find out more about SWOT here.&nbsp\;</a></span></h2>\n
LOCATION:Clinton County Satellite Office 226 11th Street\, DeWitt
UID:e.1774.1166
SEQUENCE:3
DTSTAMP:20260420T184045Z
URL:https://business.dewittiowa.org/events/details/eat-lunch-learn-something-discovering-your-businesses-strengths-weaknesses-opportunities-and-threats-swot-02-09-2016-1166
END:VEVENT

END:VCALENDAR
