BEGIN:VCALENDAR
VERSION:2.0
PRODID:-//ChamberMaster//Event Calendar 2.0//EN
METHOD:PUBLISH
X-PUBLISHED-TTL:P3D
REFRESH-INTERVAL:P3D
CALSCALE:GREGORIAN
BEGIN:VEVENT
DTSTART:20170829T163000Z
DTEND:20170829T180000Z
X-MICROSOFT-CDO-ALLDAYEVENT:FALSE
SUMMARY:"eat Lunch & Learn something" Effective Meetings
DESCRIPTION:"I hate meetings!" Are those words you have said or have heard from others? Meetings are how we get things done and should be productive\, produce value and have the feeling of accomplishment! When you learn how to have GREAT MEETINGS\, everyone involved benefits. We should look forward to producing amazing work in our meetings! This session will be facilitated by Pam Hillary\, Executive Master Coach and Leadership Development Specialist.\n\n \nDuring the program we will:\n\n  Learn how to produce excellent agendas so that people WANT to attend the meetings\n\n  Skilled facilitation of meetings\n\n  Meeting minutes\n\n  Everyone speaks\; it is our responsibility to contribute\n\n  Keep them short and productive\n\n  Don't have a meeting unless you must!\n\n  Who is going to do what by when and follow up (X by Y)\n\n  Closing a meeting well\n\n  Discussion of mindmap graphic
X-ALT-DESC;FMTTYPE=text/html:<div class="gmail_default" style="color: rgb(34\, 34\, 34)\; font-size: 12.8px\; line-height: normal\; font-family: arial\, helvetica\, sans-serif\;"><span style="color: rgb(34\, 34\, 34)\; font-size: 12.8px\; background-color: rgb(255\, 255\, 255)\; font-family: arial\;"><span style="font-size: 14px\;">&quot\;I hate meetings!&quot\; Are those words you have said or have heard from others? Meetings are how we get things done and should be productive\, produce value and have the feeling of accomplishment! When you learn how to have GREAT MEETINGS\, everyone involved benefits. We should look forward to producing amazing work in our meetings!&nbsp\;</span></span><span style="color: rgb(34\, 34\, 34)\; font-family: arial\; font-size: 14px\; background-color: rgb(255\, 255\, 255)\;">This session will be facilitated by Pam Hillary\, Executive Master Coach and Leadership Development Specialist.</span><br style="color: rgb(34\, 34\, 34)\; font-family: arial\, helvetica\, sans-serif\; font-size: 12.8px\; background-color: rgb(255\, 255\, 255)\;" />\n<span style="color: rgb(34\, 34\, 34)\; font-family: arial\, helvetica\, sans-serif\; font-size: 12.8px\; background-color: rgb(255\, 255\, 255)\;">&nbsp\;</span></div>\n<span style="font-size:14px\;"><span style="color: rgb(51\, 51\, 51)\; font-family: sans-serif\, Arial\, Verdana\, &quot\;Trebuchet MS&quot\;\; background-color: rgb(255\, 255\, 255)\;">During the program&nbsp\;</span>we will:<br />\n&#9733\; Learn how to produce excellent agendas so that people WANT to attend the meetings<br />\n&#9733\; Skilled facilitation of meetings<br />\n&#9733\; Meeting minutes<br />\n&#9733\; Everyone speaks\; it is our responsibility to contribute<br />\n&#9733\; Keep them short and productive<br />\n&#9733\; Don&rsquo\;t have a meeting unless you must!<br />\n&#9733\; Who is going to do what by when and follow up (X by Y)<br />\n&#9733\; Closing a meeting well<br />\n&#9733\; Discussion of mindmap graphic</span><br />\n<br />\n&nbsp\;
LOCATION:Jorgie's Bar & Grill (upstairs room) 241 11th St. DeWitt\, IA 52742
UID:e.1774.1690
SEQUENCE:3
DTSTAMP:20260419T150538Z
URL:https://business.dewittiowa.org/events/details/eat-lunch-learn-something-effective-meetings-1690
END:VEVENT

END:VCALENDAR
