BEGIN:VCALENDAR
VERSION:2.0
PRODID:-//ChamberMaster//Event Calendar 2.0//EN
METHOD:PUBLISH
X-PUBLISHED-TTL:P3D
REFRESH-INTERVAL:P3D
CALSCALE:GREGORIAN
BEGIN:VEVENT
DTSTART:20151116T173000Z
DTEND:20151116T190000Z
X-MICROSOFT-CDO-ALLDAYEVENT:FALSE
SUMMARY:"eat Lunch & Learn something" - Hiring\, Retaining\, and Incenting Employees
DESCRIPTION:Hiring\, Retaining\, and Incenting Employees: Presented by Eastern Iowa Small Business Development Center and lead by Troy Randall (click to read bio).\n \n\nThe session will cover current issues growing businesses are facing\; Hiring\, Retaining\, and Incenting Employees. \n\n\n\nSome take away's from the program will include:\n\n\n	How to hire the "Difference Maker"\n	Retaining & Incenting the "Difference Maker"\n	Ways to Motivate Employees
X-ALT-DESC;FMTTYPE=text/html:<p><span style="font-family:arial\;"><strong>Hiring\, Retaining\, and&nbsp\;Incenting&nbsp\;Employees:</strong><b style="font-family: arial\, sans-serif\; font-size: 12.7273px\; color: rgb(34\, 34\, 34)\; background-color: rgb(255\, 255\, 255)\;">&nbsp\;</b><b style="font-family: arial\, sans-serif\; font-size: 12.7273px\; color: rgb(34\, 34\, 34)\; background-color: rgb(255\, 255\, 255)\;">Presented by Eastern Iowa Small Business Development Center and lead by</b><b style="font-family: arial\, sans-serif\; font-size: 12.7273px\; color: rgb(34\, 34\, 34)\; background-color: rgb(255\, 255\, 255)\;">&nbsp\;</b><strong><a href="http://cloud.chambermaster.com/userfiles/UserFiles/chambers/1774/File/TroyRandallBio.pdf" target="_blank">Troy Randall</a>&nbsp\;(click to read bio).</strong></span></p>\n&nbsp\;\n\n<div style="color: rgb(34\, 34\, 34)\; font-family: Calibri\; font-size: 14.6667px\; background-color: rgb(255\, 255\, 255)\;">The session will cover current issues growing businesses are facing\; Hiring\, Retaining\, and Incenting Employees.&nbsp\;</div>\n\n<div style="color: rgb(34\, 34\, 34)\; font-family: Calibri\; font-size: 14.6667px\; background-color: rgb(255\, 255\, 255)\;"><br />\n<font face="Calibri"><span style="font-size: 14.6667px\;">Some take&nbsp\;away&#39\;s&nbsp\;from the program will include:</span></font></div>\n\n<ul style="color: rgb(34\, 34\, 34)\; font-family: Calibri\; font-size: 14.6667px\; margin: 0px\; padding-left: 36pt\; background-color: rgb(255\, 255\, 255)\;">\n	<li style="margin-left: 15px\;">How to hire&nbsp\;the &quot\;Difference Maker&quot\;</li>\n	<li style="margin-left: 15px\;">Retaining &amp\; Incenting the &quot\;Difference Maker&quot\;</li>\n	<li style="margin-left: 15px\;">Ways to Motivate Employees</li>\n</ul>\n\n<div style="color: rgb(34\, 34\, 34)\; font-family: Calibri\; font-size: 14.6667px\; background-color: rgb(255\, 255\, 255)\;"><font color="#1F497D">&nbsp\;</font></div>\n\n<div style="color: rgb(34\, 34\, 34)\; font-family: Calibri\; font-size: 14.6667px\; background-color: rgb(255\, 255\, 255)\;"><font color="#1F497D">&nbsp\;</font></div>\n<br />\n&nbsp\;
LOCATION:Clinton County Satellite Office 226 11th Street\, DeWitt
UID:e.1774.240
SEQUENCE:3
DTSTAMP:20260420T233400Z
URL:https://business.dewittiowa.org/events/details/eat-lunch-learn-something-hiring-retaining-and-incenting-employees-11-16-2015-240
END:VEVENT

END:VCALENDAR
