BEGIN:VCALENDAR
VERSION:2.0
PRODID:-//ChamberMaster//Event Calendar 2.0//EN
METHOD:PUBLISH
X-PUBLISHED-TTL:P3D
REFRESH-INTERVAL:P3D
CALSCALE:GREGORIAN
BEGIN:VEVENT
DTSTART:20160913T163000Z
DTEND:20160913T180000Z
X-MICROSOFT-CDO-ALLDAYEVENT:FALSE
SUMMARY:"eat Lunch & Learn something" To Be A Top Workplace\, Starts with the Culture
DESCRIPTION:Learn how DCDC member\, Farm Credit Services of America has created a positive work culture that has gotten them recognized as one of Iowa's Top Workplaces ('12 -'15).  Angie Treptow\, Farm Credit Services of America's Regional Vice President of East Central Iowa will present. \n\nLunch will be provided from  Matthiesen's Catering with the session.
X-ALT-DESC;FMTTYPE=text/html:<p><span style="font-size:14px\;"><span style="font-family:arial\;"><span style="background-color: rgb(255\, 255\, 255)\;">Learn how DCDC&nbsp\;member\,&nbsp\;<a href="http://dewitt.chambermaster.com/list/member/farm-credit-services-of-america-82" target="_blank">Farm Credit Services of America</a> has created a positive work culture that has gotten them&nbsp\;recognized&nbsp\;as one of Iowa&#39\;s Top Workplaces (&#39\;12 -&#39\;15).&nbsp\;&nbsp\;</span><span style="letter-spacing:0.45pt\;">Angie Treptow\,&nbsp\;</span><span style="letter-spacing:0.6px\;">Farm Credit Services of America&#39\;s </span><span style="letter-spacing:0.45pt\;">Regional Vice President&nbsp\;of East Central Iowa will&nbsp\;present.&nbsp\;</span></span></span></p>\n\n<p><strong>Lunch will be provided from&nbsp\;<a href="http://dewitt.chambermaster.com/list/member/matthiesen-s-meat-processing-catering-369" target="_blank">&nbsp\;<span style="color: rgb(51\, 51\, 51)\; font-weight: bold\; line-height: 18.2px\;">Matthiesen&#39\;s Catering</span></a>&nbsp\;with the session.&nbsp\;</strong></p>\n
LOCATION:Clinton County Treasurer Satellite Office 226 11th St.\, DeWitt IA 52742
UID:e.1774.1193
SEQUENCE:3
DTSTAMP:20260420T074257Z
URL:https://business.dewittiowa.org/events/details/eat-lunch-learn-something-to-be-a-top-workplace-starts-with-the-culture-09-13-2016-1193
END:VEVENT

END:VCALENDAR
