BEGIN:VCALENDAR
VERSION:2.0
PRODID:-//ChamberMaster//Event Calendar 2.0//EN
METHOD:PUBLISH
X-PUBLISHED-TTL:P3D
REFRESH-INTERVAL:P3D
CALSCALE:GREGORIAN
BEGIN:VEVENT
DTSTART:20141104T170000Z
DTEND:20141105T013000Z
X-MICROSOFT-CDO-ALLDAYEVENT:FALSE
SUMMARY:Election Day Sloppy Joe Fundraiser
DESCRIPTION:Eat twice - vote once!\n\n\nSloppy Joe Election Day fundraiser \n\nsponsored by the DeWitt Noon Lions Club \n\nServing 11 a.m.-2 p.m. and 4:30-7:30 -p.m.\n\nFor carry-outs\, call 563-320-4958
X-ALT-DESC;FMTTYPE=text/html:<h1 style="color: red\; "><strong>Eat twice - vote once!</strong></h1>\n<br />\n<big><strong><em>Sl<strong><em>o</em>pp</strong>y Joe Election Day fundraiser&nbsp\;</em></strong></big><br />\nsponsored by the DeWitt Noon Lions Club&nbsp\;<br />\nServing 11 a.m.-2 p.m. and 4:30-7:30 -p.m.<br />\nFor carry-outs\, call 563-320-4958
LOCATION:DeWitt Community Center 512 10th St. DeWitt\, IA
UID:e.1774.228
SEQUENCE:3
DTSTAMP:20260421T204000Z
URL:https://business.dewittiowa.org/events/details/election-day-sloppy-joe-fundraiser-11-04-2014-228
END:VEVENT

END:VCALENDAR
