BEGIN:VCALENDAR
VERSION:2.0
PRODID:-//ChamberMaster//Event Calendar 2.0//EN
METHOD:PUBLISH
X-PUBLISHED-TTL:P3D
REFRESH-INTERVAL:P3D
CALSCALE:GREGORIAN
BEGIN:VEVENT
DTSTART:20161108T170000Z
DTEND:20161108T190000Z
X-MICROSOFT-CDO-ALLDAYEVENT:FALSE
SUMMARY:Election Day Sloppy Joe Lunch Fundraiser
DESCRIPTION:Vote Once\, Eat Twice!\n\n\n\nDeWitt Noon Lion Sloppy Joe Election Day Fundraiser.\n\nServing 11am - 1pm AND 4:30pm - 7:30pm\n\n\n\nMeal includes: Sloppy Joes\, chips\, applesauce\, cookies\, bars & drink. Carryouts available.
X-ALT-DESC;FMTTYPE=text/html:Vote Once\, Eat Twice!<br />\n<br />\nDeWitt Noon Lion Sloppy Joe Election Day Fundraiser.<br />\nServing 11am - 1pm AND 4:30pm - 7:30pm<br />\n<br />\nMeal includes: Sloppy Joes\, chips\, applesauce\, cookies\, bars &amp\; drink. Carryouts available.
LOCATION:DeWitt Community Center
UID:e.1774.1664
SEQUENCE:3
DTSTAMP:20260420T043351Z
URL:https://business.dewittiowa.org/events/details/election-day-sloppy-joe-lunch-fundraiser-1664
END:VEVENT

END:VCALENDAR
