BEGIN:VCALENDAR
VERSION:2.0
PRODID:-//ChamberMaster//Event Calendar 2.0//EN
METHOD:PUBLISH
X-PUBLISHED-TTL:P3D
REFRESH-INTERVAL:P3D
CALSCALE:GREGORIAN
BEGIN:VEVENT
DTSTART:20160503T233000Z
DTEND:20160504T010000Z
X-MICROSOFT-CDO-ALLDAYEVENT:FALSE
SUMMARY:Emerald Ash Borer Workshop\, Clinton County Extension Office
DESCRIPTION:The Clinton County Extension office is hosting a free Emerald Ash Borer workshop Tuesday\, May 3\, 2016 from 6:30 pm till 8:00 pm. Hear from experts from Iowa State University\, Iowa Department of Agriculture and Land Stewardship and the Iowa Department of Natural Resources about EAB biology\, ash tree identification\, alternative species to plant\, treatment candidacy and treatment options. RSVP to 563-659-5125.
X-ALT-DESC;FMTTYPE=text/html:The Clinton County Extension office is hosting a free Emerald Ash Borer workshop Tuesday\, May 3\, 2016 from 6:30 pm till 8:00 pm. Hear from experts from Iowa State University\, Iowa Department of Agriculture and Land Stewardship and the Iowa Department of Natural Resources about EAB biology\, ash tree identification\, alternative species to plant\, treatment candidacy and treatment options. RSVP to 563-659-5125.
LOCATION:Clinton County Extension Office 400 East 11 Street DeWitt\, Iowa 52742
UID:e.1774.1290
SEQUENCE:3
DTSTAMP:20260420T152615Z
URL:https://business.dewittiowa.org/events/details/emerald-ash-borer-workshop-clinton-county-extension-office-05-03-2016-1290
END:VEVENT

END:VCALENDAR
