BEGIN:VCALENDAR
VERSION:2.0
PRODID:-//ChamberMaster//Event Calendar 2.0//EN
METHOD:PUBLISH
X-PUBLISHED-TTL:P3D
REFRESH-INTERVAL:P3D
CALSCALE:GREGORIAN
BEGIN:VEVENT
DTSTART:20170429T130000Z
DTEND:20170429T220000Z
X-MICROSOFT-CDO-ALLDAYEVENT:FALSE
SUMMARY:Emma Rae's 2nd Year Anniversary Celebration
DESCRIPTION:Emma Rae's 2nd Year Anniversary Celebration April 29th 8-5pm. Come enjoy tons of discounts and drawings through out the store. FREE hot dogs and hamburgers 11-1 pm at our side entrance. Local Author Bob Bancks will be book signing. Come check out the books he writes about local towns in IOWA.
X-ALT-DESC;FMTTYPE=text/html:Emma Rae&#39\;s 2nd Year Anniversary Celebration April 29th 8-5pm. Come enjoy tons of discounts and drawings through out the store. FREE hot dogs and hamburgers 11-1 pm at our side entrance. Local Author Bob Bancks will be book signing. Come check out the books he writes about local towns in IOWA.&nbsp\;
LOCATION:Emma Rae's Antiques & Uniques 714 6th Ave DeWitt IA 52742
UID:e.1774.2973
SEQUENCE:3
DTSTAMP:20260419T201711Z
URL:https://business.dewittiowa.org/events/details/emma-rae-s-2nd-year-anniversary-celebration-2973
END:VEVENT

END:VCALENDAR
