BEGIN:VCALENDAR
VERSION:2.0
PRODID:-//ChamberMaster//Event Calendar 2.0//EN
METHOD:PUBLISH
X-PUBLISHED-TTL:P3D
REFRESH-INTERVAL:P3D
CALSCALE:GREGORIAN
BEGIN:VEVENT
DTSTART:20160416T150000Z
DTEND:20160416T220000Z
X-MICROSOFT-CDO-ALLDAYEVENT:FALSE
SUMMARY:Emma Rae's Antiques & Uniques 1 year Anniversary Event
DESCRIPTION:Emma Rae's Antiques & Uniques is having a\, April 16th for our 1 year anniversary from 10am to 5pm\, Beverages\, snacks and drawing throughout the day. Brush Creek Wine\, Country Chalk Paint\, Gift Certificates and much more from a variety of our Vendor's. Stop in as we have a display for you to look at!
X-ALT-DESC;FMTTYPE=text/html:Emma Rae&#39\;s Antiques &amp\; Uniques is having a\, April 16th for our 1 year anniversary from 10am to 5pm\, Beverages\, snacks and drawing throughout the day. Brush Creek Wine\, Country Chalk Paint\, Gift Certificates and much more from a variety of our Vendor&#39\;s. Stop in as we have a display for you to look at!
LOCATION:Emma Rae's Antiques & Uniques 714 6th Ave DeWitt IA 52742
UID:e.1774.1287
SEQUENCE:3
DTSTAMP:20260420T152846Z
URL:https://business.dewittiowa.org/events/details/emma-rae-s-antiques-uniques-1-year-anniversary-event-04-16-2016-1287
END:VEVENT

END:VCALENDAR
