BEGIN:VCALENDAR
VERSION:2.0
PRODID:-//ChamberMaster//Event Calendar 2.0//EN
METHOD:PUBLISH
X-PUBLISHED-TTL:P3D
REFRESH-INTERVAL:P3D
CALSCALE:GREGORIAN
BEGIN:VEVENT
DTSTART:20150425T120000Z
DTEND:20150426T000000Z
X-MICROSOFT-CDO-ALLDAYEVENT:FALSE
SUMMARY:Emma Rae's Antiques & Uniques Grand Opening
DESCRIPTION:Emma Rae's Antiques & Uniques Grand Opening April 25th 7am to 7pm. Refreshments\, Door Prizes & Meet and Greet with Emma Rae from 1pm to 3pm.
X-ALT-DESC;FMTTYPE=text/html:Emma Rae&#39\;s Antiques &amp\; Uniques Grand Opening April 25th 7am to 7pm. Refreshments\, Door Prizes&nbsp\;&amp\; Meet&nbsp\;and Greet with&nbsp\;Emma Rae from 1pm to 3pm.
LOCATION:714 6th Ave DeWitt IA 52742
UID:e.1774.366
SEQUENCE:3
DTSTAMP:20260421T112700Z
URL:https://business.dewittiowa.org/events/details/emma-rae-s-antiques-uniques-grand-opening-04-25-2015-366
END:VEVENT

END:VCALENDAR
