BEGIN:VCALENDAR
VERSION:2.0
PRODID:-//ChamberMaster//Event Calendar 2.0//EN
METHOD:PUBLISH
X-PUBLISHED-TTL:P3D
REFRESH-INTERVAL:P3D
CALSCALE:GREGORIAN
BEGIN:VEVENT
DTSTART:20150418T130000Z
DTEND:20150418T220000Z
X-MICROSOFT-CDO-ALLDAYEVENT:FALSE
SUMMARY:Emma Rae's Antiques & Uniques Vendor Open House
DESCRIPTION:Vendors for Antiques\, Uniques & Crafts. Month to month leases. Stop in and see us today!
X-ALT-DESC;FMTTYPE=text/html:Vendors for Antiques\, Uniques &amp\; Crafts. Month to month leases.&nbsp\;Stop in and&nbsp\;see us today!
LOCATION:714 6th Ave DeWitt\, IA 52742
UID:e.1774.361
SEQUENCE:3
DTSTAMP:20260421T111002Z
URL:https://business.dewittiowa.org/events/details/emma-rae-s-antiques-uniques-vendor-open-house-04-18-2015-361
END:VEVENT

END:VCALENDAR
