BEGIN:VCALENDAR
VERSION:2.0
PRODID:-//ChamberMaster//Event Calendar 2.0//EN
METHOD:PUBLISH
X-PUBLISHED-TTL:P3D
REFRESH-INTERVAL:P3D
CALSCALE:GREGORIAN
BEGIN:VEVENT
DTSTART:20161119T160000Z
DTEND:20161119T230000Z
X-MICROSOFT-CDO-ALLDAYEVENT:FALSE
SUMMARY:Emma Rae's Christmas Open House
DESCRIPTION:Emma Rae's Christmas Open House...Vendor Sales & Drawing Giveaways in a large variety of booths. Author Bob Bancks from Blue Grass will be here doing book signings & Artist Maria Casad will be here working on art and both will have a drawing for a Book and Art piece!  Snacks and Refreshments. Stop in to see all the updated booths and start your Christmas shopping by SHOPPING LOCAL for the Holidays!
X-ALT-DESC;FMTTYPE=text/html:Emma Rae&#39\;s Christmas Open House...Vendor Sales &amp\; Drawing Giveaways in a large variety of booths. Author Bob Bancks from Blue Grass will be here doing book signings &amp\; Artist Maria Casad will be here working on art and both will have a drawing for a Book and Art piece! &nbsp\;Snacks and Refreshments. Stop in to see all the updated booths and start your Christmas shopping by SHOPPING LOCAL for the Holidays!
LOCATION:Emma Rae's 714 6th Ave. DeWitt\, IA
UID:e.1774.1687
SEQUENCE:3
DTSTAMP:20260420T043147Z
URL:https://business.dewittiowa.org/events/details/emma-rae-s-christmas-open-house-1687
END:VEVENT

END:VCALENDAR
