BEGIN:VCALENDAR
VERSION:2.0
PRODID:-//ChamberMaster//Event Calendar 2.0//EN
METHOD:PUBLISH
X-PUBLISHED-TTL:P3D
REFRESH-INTERVAL:P3D
CALSCALE:GREGORIAN
BEGIN:VEVENT
DTSTART;VALUE=DATE:20150622
DTEND;VALUE=DATE:20150623
TRANSP:TRANSPARENT
X-MICROSOFT-CDO-ALLDAYEVENT:TRUE
SUMMARY:Emmaus Road Church Day Camp
DESCRIPTION:For kids entering 1st- 6th grade\n\n\n\n(4 year old-Kindergarten program available 9-11:30 am)\n\nFor information visit www.emmausroadonline.org or call\n\n563-659-9444 or pam@emmausroadonline.org to register\n\nIt's FREE!  Pre-register by Friday\, June 12\n\nClick the link below for the registration form:\n\nhttp://cloud.chambermaster.com/userfiles/UserFiles/chambers/1774/File/EmmausRoadChurch.pdf
X-ALT-DESC;FMTTYPE=text/html:<br />\nFor kids entering 1st- 6th grade<br />\n<br />\n(4 year old-Kindergarten program available 9-11:30 am)<br />\nFor information visit www.emmausroadonline.org or call<br />\n563-659-9444 or pam@emmausroadonline.org to register<br />\nIt&#39\;s FREE! &nbsp\;Pre-register by Friday\, June 12<br />\nClick the link below for the registration form:<br />\n<a href="http://cloud.chambermaster.com/userfiles/UserFiles/chambers/1774/File/EmmausRoadChurch.pdf" style="line-height: 18.9090900421143px\;">http://cloud.chambermaster.com/userfiles/UserFiles/chambers/1774/File/EmmausRoadChurch.pdf</a><br />\n&nbsp\;
LOCATION:Emmaus Road Church 1811 Elmwood Road\, DeWitt\, IA
UID:e.1774.488
SEQUENCE:3
DTSTAMP:20260421T075900Z
URL:https://business.dewittiowa.org/events/details/emmaus-road-church-day-camp-06-22-2015-488
END:VEVENT

END:VCALENDAR
